ENVI
description = { File Resize Result, x resize factor: 1.000000, y resize factor: 1.000000. [Wed Nov 16 15:52:23 2005]}
samples = 1075
lines = 655
bands = 3
header offset = 0
file type = ENVI Standard
data type = 1
interleave = bip
sensor type = Unknown
byte order = 0
x start = 2421
y start = 1866
map info = {UTM, 1.000, 1.000, 281715.069, 4774170.328, 7.9565131300e-001, 7.9565131300e-001, 18, North, WGS-84, units=Meters}
wavelength units = Unknown
band names = { Resize (R:ortho_13.tif), Resize (G:ortho_13.tif), Resize (B:ortho_13.tif)}
